Workbook

Sheet Servicios
A1: Tus servicios y tu equipo
A2: Cambia los ejemplos por los tuyos: la agenda los usa para las listas, la duración y el precio.
A4: Servicio | B4: Duración (min) | C4: Precio (€) | E4: Profesional
A5: Primera visita | B5: 60 | C5: 45 | E5: Profesional 1
A6: Sesión de 30 minutos | B6: 30 | C6: 25 | E6: Profesional 2
A7: Sesión de 45 minutos | B7: 45 | C7: 35 | E7: Profesional 3
A8: Sesión de 60 minutos | B8: 60 | C8: 45 | E8: Profesional 4
A9: Revisión | B9: 20 | C9: 20
A10: Servicio largo | B10: 90 | C10: 60
A37: Plantilla gratis de Gestor Centro · gestorcentro.com/guias/agenda-de-citas-excel/

Sheet Agenda
A1: Agenda de citas
A2: Una cita por fila. Elige profesional, servicio y estado de las listas: la duración, la hora de salida y el precio salen solos.
A4: Fecha | B4: Hora | C4: Profesional | D4: Cliente | E4: Teléfono | F4: Servicio | G4: Duración (min) | H4: Termina | I4: Precio | J4: Estado | K4: Notas
G5: =IF(F5="","",IFERROR(VLOOKUP(F5,Servicios!$A$5:$C$34,2,FALSE),"")) | H5: =IF(OR(B5="",G5=""),"",B5+G5/1440) | I5: =IF(F5="","",IFERROR(VLOOKUP(F5,Servicios!$A$5:$C$34,3,FALSE),""))
G6: =IF(F6="","",IFERROR(VLOOKUP(F6,Servicios!$A$5:$C$34,2,FALSE),"")) | H6: =IF(OR(B6="",G6=""),"",B6+G6/1440) | I6: =IF(F6="","",IFERROR(VLOOKUP(F6,Servicios!$A$5:$C$34,3,FALSE),""))
G7: =IF(F7="","",IFERROR(VLOOKUP(F7,Servicios!$A$5:$C$34,2,FALSE),"")) | H7: =IF(OR(B7="",G7=""),"",B7+G7/1440) | I7: =IF(F7="","",IFERROR(VLOOKUP(F7,Servicios!$A$5:$C$34,3,FALSE),""))
G8: =IF(F8="","",IFERROR(VLOOKUP(F8,Servicios!$A$5:$C$34,2,FALSE),"")) | H8: =IF(OR(B8="",G8=""),"",B8+G8/1440) | I8: =IF(F8="","",IFERROR(VLOOKUP(F8,Servicios!$A$5:$C$34,3,FALSE),""))
G9: =IF(F9="","",IFERROR(VLOOKUP(F9,Servicios!$A$5:$C$34,2,FALSE),"")) | H9: =IF(OR(B9="",G9=""),"",B9+G9/1440) | I9: =IF(F9="","",IFERROR(VLOOKUP(F9,Servicios!$A$5:$C$34,3,FALSE),""))
G10: =IF(F10="","",IFERROR(VLOOKUP(F10,Servicios!$A$5:$C$34,2,FALSE),"")) | H10: =IF(OR(B10="",G10=""),"",B10+G10/1440) | I10: =IF(F10="","",IFERROR(VLOOKUP(F10,Servicios!$A$5:$C$34,3,FALSE),""))
G11: =IF(F11="","",IFERROR(VLOOKUP(F11,Servicios!$A$5:$C$34,2,FALSE),"")) | H11: =IF(OR(B11="",G11=""),"",B11+G11/1440) | I11: =IF(F11="","",IFERROR(VLOOKUP(F11,Servicios!$A$5:$C$34,3,FALSE),""))
G12: =IF(F12="","",IFERROR(VLOOKUP(F12,Servicios!$A$5:$C$34,2,FALSE),"")) | H12: =IF(OR(B12="",G12=""),"",B12+G12/1440) | I12: =IF(F12="","",IFERROR(VLOOKUP(F12,Servicios!$A$5:$C$34,3,FALSE),""))
G13: =IF(F13="","",IFERROR(VLOOKUP(F13,Servicios!$A$5:$C$34,2,FALSE),"")) | H13: =IF(OR(B13="",G13=""),"",B13+G13/1440) | I13: =IF(F13="","",IFERROR(VLOOKUP(F13,Servicios!$A$5:$C$34,3,FALSE),""))
G14: =IF(F14="","",IFERROR(VLOOKUP(F14,Servicios!$A$5:$C$34,2,FALSE),"")) | H14: =IF(OR(B14="",G14=""),"",B14+G14/1440) | I14: =IF(F14="","",IFERROR(VLOOKUP(F14,Servicios!$A$5:$C$34,3,FALSE),""))
G15: =IF(F15="","",IFERROR(VLOOKUP(F15,Servicios!$A$5:$C$34,2,FALSE),"")) | H15: =IF(OR(B15="",G15=""),"",B15+G15/1440) | I15: =IF(F15="","",IFERROR(VLOOKUP(F15,Servicios!$A$5:$C$34,3,FALSE),""))
G16: =IF(F16="","",IFERROR(VLOOKUP(F16,Servicios!$A$5:$C$34,2,FALSE),"")) | H16: =IF(OR(B16="",G16=""),"",B16+G16/1440) | I16: =IF(F16="","",IFERROR(VLOOKUP(F16,Servicios!$A$5:$C$34,3,FALSE),""))
... G404: =IF(F404="","",IFERROR(VLOOKUP(F404,Servicios!$A$5:$C$34,2,FALSE),"")) | H404: =IF(OR(B404="",G404=""),"",B404+G404/1440) | I404: =IF(F404="","",IFERROR(VLOOKUP(F404,Servicios!$A$5:$C$34,3,FALSE),""))

Sheet Resumen
A1: Resumen de la agenda
A2: Pon las dos fechas y mira cómo ha ido: citas, quién no vino y lo cobrado.
A4: Desde | B4: =DATE(YEAR(TODAY()),MONTH(TODAY()),1)
A5: Hasta | B5: =EOMONTH(B4,0)
A7: Las citas
A8: Pendiente | B8: =COUNTIFS(Agenda!$J$5:$J$404,"Pendiente",Agenda!$A$5:$A$404,">="&$B$4,Agenda!$A$5:$A$404,"<="&$B$5)
A9: Confirmada | B9: =COUNTIFS(Agenda!$J$5:$J$404,"Confirmada",Agenda!$A$5:$A$404,">="&$B$4,Agenda!$A$5:$A$404,"<="&$B$5)
A10: Ha venido | B10: =COUNTIFS(Agenda!$J$5:$J$404,"Ha venido",Agenda!$A$5:$A$404,">="&$B$4,Agenda!$A$5:$A$404,"<="&$B$5)
A11: No vino | B11: =COUNTIFS(Agenda!$J$5:$J$404,"No vino",Agenda!$A$5:$A$404,">="&$B$4,Agenda!$A$5:$A$404,"<="&$B$5)
A12: Anulada | B12: =COUNTIFS(Agenda!$J$5:$J$404,"Anulada",Agenda!$A$5:$A$404,">="&$B$4,Agenda!$A$5:$A$404,"<="&$B$5)
A13: Citas en total | B13: =COUNTIFS(Agenda!$A$5:$A$404,">="&$B$4,Agenda!$A$5:$A$404,"<="&$B$5)
A15: No vinieron (de las que tocaba atender) | B15: =IFERROR(B11/(B10+B11),0) | C15: No vino ÷ (ha venido + no vino)
A16: Cobrado en las citas atendidas | B16: =SUMIFS(Agenda!$I$5:$I$404,Agenda!$J$5:$J$404,"Ha venido",Agenda!$A$5:$A$404,">="&$B$4,Agenda!$A$5:$A$404,"<="&$B$5)
A17: Perdido en las que no vinieron | B17: =SUMIFS(Agenda!$I$5:$I$404,Agenda!$J$5:$J$404,"No vino",Agenda!$A$5:$A$404,">="&$B$4,Agenda!$A$5:$A$404,"<="&$B$5)
A19: Por profesional
A20: Profesional | B20: Atendidas | C20: No vino | D20: Cobrado
A21: =IF(Servicios!E5="","",Servicios!E5) | B21: =IF($A21="","",COUNTIFS(Agenda!$C$5:$C$404,$A21,Agenda!$J$5:$J$404,"Ha venido",Agenda!$A$5:$A$404,">="&$B$4,Agenda!$A$5:$A$404,"<="&$B$5)) | C21: =IF($A21="","",COUNTIFS(Agenda!$C$5:$C$404,$A21,Agenda!$J$5:$J$404,"No vino",Agenda!$A$5:$A$404,">="&$B$4,Agenda!$A$5:$A$404,"<="&$B$5)) | D21: =IF($A21="","",SUMIFS(Agenda!$I$5:$I$404,Agenda!$C$5:$C$404,$A21,Agenda!$J$5:$J$404,"Ha venido",Agenda!$A$5:$A$404,">="&$B$4,Agenda!$A$5:$A$404,"<="&$B$5))
A22: =IF(Servicios!E6="","",Servicios!E6) | B22: =IF($A22="","",COUNTIFS(Agenda!$C$5:$C$404,$A22,Agenda!$J$5:$J$404,"Ha venido",Agenda!$A$5:$A$404,">="&$B$4,Agenda!$A$5:$A$404,"<="&$B$5)) | C22: =IF($A22="","",COUNTIFS(Agenda!$C$5:$C$404,$A22,Agenda!$J$5:$J$404,"No vino",Agenda!$A$5:$A$404,">="&$B$4,Agenda!$A$5:$A$404,"<="&$B$5)) | D22: =IF($A22="","",SUMIFS(Agenda!$I$5:$I$404,Agenda!$C$5:$C$404,$A22,Agenda!$J$5:$J$404,"Ha venido",Agenda!$A$5:$A$404,">="&$B$4,Agenda!$A$5:$A$404,"<="&$B$5))
A23: =IF(Servicios!E7="","",Servicios!E7) | B23: =IF($A23="","",COUNTIFS(Agenda!$C$5:$C$404,$A23,Agenda!$J$5:$J$404,"Ha venido",Agenda!$A$5:$A$404,">="&$B$4,Agenda!$A$5:$A$404,"<="&$B$5)) | C23: =IF($A23="","",COUNTIFS(Agenda!$C$5:$C$404,$A23,Agenda!$J$5:$J$404,"No vino",Agenda!$A$5:$A$404,">="&$B$4,Agenda!$A$5:$A$404,"<="&$B$5)) | D23: =IF($A23="","",SUMIFS(Agenda!$I$5:$I$404,Agenda!$C$5:$C$404,$A23,Agenda!$J$5:$J$404,"Ha venido",Agenda!$A$5:$A$404,">="&$B$4,Agenda!$A$5:$A$404,"<="&$B$5))
A24: =IF(Servicios!E8="","",Servicios!E8) | B24: =IF($A24="","",COUNTIFS(Agenda!$C$5:$C$404,$A24,Agenda!$J$5:$J$404,"Ha venido",Agenda!$A$5:$A$404,">="&$B$4,Agenda!$A$5:$A$404,"<="&$B$5)) | C24: =IF($A24="","",COUNTIFS(Agenda!$C$5:$C$404,$A24,Agenda!$J$5:$J$404,"No vino",Agenda!$A$5:$A$404,">="&$B$4,Agenda!$A$5:$A$404,"<="&$B$5)) | D24: =IF($A24="","",SUMIFS(Agenda!$I$5:$I$404,Agenda!$C$5:$C$404,$A24,Agenda!$J$5:$J$404,"Ha venido",Agenda!$A$5:$A$404,">="&$B$4,Agenda!$A$5:$A$404,"<="&$B$5))
A25: =IF(Servicios!E9="","",Servicios!E9) | B25: =IF($A25="","",COUNTIFS(Agenda!$C$5:$C$404,$A25,Agenda!$J$5:$J$404,"Ha venido",Agenda!$A$5:$A$404,">="&$B$4,Agenda!$A$5:$A$404,"<="&$B$5)) | C25: =IF($A25="","",COUNTIFS(Agenda!$C$5:$C$404,$A25,Agenda!$J$5:$J$404,"No vino",Agenda!$A$5:$A$404,">="&$B$4,Agenda!$A$5:$A$404,"<="&$B$5)) | D25: =IF($A25="","",SUMIFS(Agenda!$I$5:$I$404,Agenda!$C$5:$C$404,$A25,Agenda!$J$5:$J$404,"Ha venido",Agenda!$A$5:$A$404,">="&$B$4,Agenda!$A$5:$A$404,"<="&$B$5))
A26: =IF(Servicios!E10="","",Servicios!E10) | B26: =IF($A26="","",COUNTIFS(Agenda!$C$5:$C$404,$A26,Agenda!$J$5:$J$404,"Ha venido",Agenda!$A$5:$A$404,">="&$B$4,Agenda!$A$5:$A$404,"<="&$B$5)) | C26: =IF($A26="","",COUNTIFS(Agenda!$C$5:$C$404,$A26,Agenda!$J$5:$J$404,"No vino",Agenda!$A$5:$A$404,">="&$B$4,Agenda!$A$5:$A$404,"<="&$B$5)) | D26: =IF($A26="","",SUMIFS(Agenda!$I$5:$I$404,Agenda!$C$5:$C$404,$A26,Agenda!$J$5:$J$404,"Ha venido",Agenda!$A$5:$A$404,">="&$B$4,Agenda!$A$5:$A$404,"<="&$B$5))
A27: =IF(Servicios!E11="","",Servicios!E11) | B27: =IF($A27="","",COUNTIFS(Agenda!$C$5:$C$404,$A27,Agenda!$J$5:$J$404,"Ha venido",Agenda!$A$5:$A$404,">="&$B$4,Agenda!$A$5:$A$404,"<="&$B$5)) | C27: =IF($A27="","",COUNTIFS(Agenda!$C$5:$C$404,$A27,Agenda!$J$5:$J$404,"No vino",Agenda!$A$5:$A$404,">="&$B$4,Agenda!$A$5:$A$404,"<="&$B$5)) | D27: =IF($A27="","",SUMIFS(Agenda!$I$5:$I$404,Agenda!$C$5:$C$404,$A27,Agenda!$J$5:$J$404,"Ha venido",Agenda!$A$5:$A$404,">="&$B$4,Agenda!$A$5:$A$404,"<="&$B$5))
A28: =IF(Servicios!E12="","",Servicios!E12) | B28: =IF($A28="","",COUNTIFS(Agenda!$C$5:$C$404,$A28,Agenda!$J$5:$J$404,"Ha venido",Agenda!$A$5:$A$404,">="&$B$4,Agenda!$A$5:$A$404,"<="&$B$5)) | C28: =IF($A28="","",COUNTIFS(Agenda!$C$5:$C$404,$A28,Agenda!$J$5:$J$404,"No vino",Agenda!$A$5:$A$404,">="&$B$4,Agenda!$A$5:$A$404,"<="&$B$5)) | D28: =IF($A28="","",SUMIFS(Agenda!$I$5:$I$404,Agenda!$C$5:$C$404,$A28,Agenda!$J$5:$J$404,"Ha venido",Agenda!$A$5:$A$404,">="&$B$4,Agenda!$A$5:$A$404,"<="&$B$5))
A30: Plantilla gratis de Gestor Centro · gestorcentro.com/guias/agenda-de-citas-excel/

Sheet Para imprimir
A1: Agenda del día | C1: Fecha:
A3: Hora | B3: =IF(Servicios!E5="","",Servicios!E5) | C3: =IF(Servicios!E6="","",Servicios!E6) | D3: =IF(Servicios!E7="","",Servicios!E7) | E3: =IF(Servicios!E8="","",Servicios!E8)
A4: 9:00
A5: 9:15
A6: 9:30
A7: 9:45
A8: 10:00
A9: 10:15
A10: 10:30
A11: 10:45
A12: 11:00
A13: 11:15
A14: 11:30
A15: 11:45
... A53: Plantilla gratis de Gestor Centro · gestorcentro.com/guias/agenda-de-citas-excel/
